Workbook
Name \a: #N/A
Name _: #REF!
Name _: #REF!
Name _: #REF!
Name _: #REF!
Name _t1: #REF!
Name A: #REF!
Name A: #REF!
Name A: #REF!
Name aa: #REF!
Name aa: #REF!
Name aa: #REF!
Name Anuário99CNH: #REF!
Name Anuário99CNH: #REF!
Name Anuário99CNH: #REF!
Name ASAS: #REF!
Name ASAS: #REF!
Name ASAS: #REF!
Name b: #REF!
Name b: #REF!
Name b: #REF!
Name bb: #REF!
Name bb: #REF!
Name bb: #REF!
Name Cabe_1: #REF!
Name Cabe_1: #REF!
Name Cabe_1: #REF!
Name Cabe_2: #REF!
Name Cabe_2: #REF!
Name Cabe_2: #REF!
Name Cabe_3: #REF!
Name Cabe_3: #REF!
Name Cabe_3: #REF!
Name Cabe_4: #REF!
Name Cabe_4: #REF!
Name Cabe_4: #REF!
Name Cabe_5: #REF!
Name Cabe_5: #REF!
Name Cabe_6: #REF!
Name Cabe_6: #REF!
Name Cabe_7: #REF!
Name Cabe_7: #REF!
Name Cabe_8: #REF!
Name Cabe_8: #REF!
Name cc: #REF!
Name cc: #REF!
Name cc: #REF!
Name cen_1: #REF!
Name cen_1: #REF!
Name cen_1: #REF!
Name cen_2: #REF!
Name cen_2: #REF!
Name cen_2: #REF!
Name cen_3: #REF!
Name cen_3: #REF!
Name cen_3: #REF!
Name cen_t: #REF!
Name cen_t: #REF!
Name cen_t: #REF!
Name dd: #REF!

Sheet  Índice
B2: Relatório Anual de Sinistralidade (24h), Fiscalização e Contraordenações
B4: Março de 2026
B6: QUADROS DE RESULTADOS
B8: CAPÍTULO I - Sinistralidade a 24h
B10: 1 - Sinistralidade em Portugal
B12: ='1'!A2 -> Quadro 1. Sinistralidade em Portugal, 2026 vs 2019
B13: ='2'!A2 -> Quadro 2. Sinistralidade em Portugal, 2026 vs 2025
B15: 2 - Sinistralidade no Continente
B17: ='3'!A2 -> Quadro 3. Evolução da Sinistralidade no Continente
B18: ='4 e 5'!A2 -> Quadro 4. Sinistralidade em Portugal por mês
B19: ='4 e 5'!A11 -> Quadro 5. Sinistralidade em Portugal por mês, taxas de variação
B20: ='6'!A2 -> Quadro 6. Sinistralidade em Portugal por dia da semana
B21: ='7'!A2 -> Quadro 7. Sinistralidade em Portugal por período horário
B22: ='8'!A2 -> Quadro 8. Sinistralidade em Portugal por fatores atmosféricos
B23: ='9 e 10'!A2 -> Quadro 9. Sinistralidade em Portugal por natureza
B24: ='9 e 10'!A11 -> Quadro 10. Sinistralidade em Portugal por natureza, taxas de variação
B25: ='11 e 12'!A2 -> Quadro 11. Sinistralidade em Portugal por localização
B26: ='11 e 12'!A10 -> Quadro 12. Sinistralidade em Portugal, taxas de variação
B27: ='13 e 14'!A2 -> Quadro 13. Sinistralidade em Portugal por tipo de via
B28: ='13 e 14'!A17 -> Quadro 14. Sinistralidade em Portugal por tipo de via, taxas de variação
B29: ='15'!A2 -> Quadro 15. Sinistralidade em Portugal por distrito e R. A.
B30: ='16 e 17'!A2 -> Quadro 16. Sinistralidade em Portugal por categoria de utilizador
B31: ='16 e 17'!A11 -> Quadro 17. Sinistralidade em Portugal por categoria de utilizador, taxas de variação
B32: ='18'!A2 -> Quadro 18.Veículos intervenientes em acidentes com vítimas em Portugal por categoria de veículo
B33: ='19 e 20'!A2 -> Quadro 19. Sinistralidade em Portugal por categoria de veículo e peões
B34: ='19 e 20'!A17 -> Quadro 20. Sinistralidade em Portugal por categoria de veículo e peões, taxas de variação
B35: ='21'!A2 -> Quadro 21. Vítimas mortais por entidade gestora de via (EGV), resumo janeiro a março 2026
B38: CAPÍTULO II - Fiscalização
B40: 1 - Fiscalização ANSR, GNR, PSP e PML
B42: ='22'!A2 -> Quadro 22. Condutores e veículos fiscalizados
B43: ='23'!A2 -> Quadro 23. Infrações
B44: ='24'!A2 -> Quadro 24. Tipologia de infrações
B45: ='25'!A2 -> Quadro 25. Infrações por excesso de velocidade
B46: ='26'!A2 -> Quadro 26. Infrações por influência de álcool
B47: ='27'!A2 -> Quadro 27. Detenções
B49: CAPÍTULO III - Processo Contraordenacional
B51: ='28'!A2 -> Quadro 28. Número de pontos disponíveis dos condutores que se encontravam sancionados com subtração de pontos em março de 2026
B52: ='29'!A2 -> Quadro 29. Número de cartas cassadas, 2016 – março de 2026

Sheet Siglas
A2: SIGLAS e ABREVIATURAS
B4: AcV | C4: Acidente com vítimas
B5: AcVM | C5: Acidente com vítimas mortais
B6: AcFG | C6: Acidente com feridos graves
B7: AcFL | C7: Acidente com feridos leves
B8: AE | C8: Autoestrada
B9: ANSR | C9: Autoridade Nacional de Segurança Rodoviária
B10: BEAV | C10: Boletim Estatístico de Acidente de Viação
B11: EM | C11: Estrada municipal
B12: EN | C12: Estrada nacional
B13: ER | C13: Estrada regional
B14: FG | C14: Ferido grave
B15: FL | C15: Ferido leve
... B25: p.p. | C25: Pontos percentuais

Sheet 1
A2: Quadro 1. Sinistralidade em Portugal, 2026 vs 2019
A4: Janeiro-março | B4: AcV | E4: VM | H4: FG | K4: FL
B5: 2019 | C5: 2026 | D5: ∆(%) 26/19 | E5: 2019 | F5: 2026 | G5: ∆(%) 26/19 | H5: 2019 | I5: 2026 | J5: ∆(%) 26/19 | K5: 2019 | L5: 2026 | M5: ∆(%) 26/19
A6: Continente | B6: 8049 | C6: 7772 | D6: =(C6/B6)-1 -> -0.034414213 | E6: 117 | F6: 103 | G6: =(F6/E6)-1 -> -0.11965812 | H6: 489 | I6: 498 | J6: =(I6/H6)-1 -> 0.018404908 | K6: 9647 | L6: 9010 | M6: =(L6/K6)-1 -> -0.06603089
A7: RA Açores | B7: 132 | C7: 121 | D7: =(C7/B7)-1 -> -0.083333333 | E7: 0 | F7: 1 | G7: - | H7: 23 | I7: 35 | J7: =(I7/H7)-1 -> 0.52173913 | K7: 146 | L7: 136 | M7: =(L7/K7)-1 -> -0.068493151
A8: RA Madeira | B8: 240 | C8: 272 | D8: =(C8/B8)-1 -> 0.13333333 | E8: 3 | F8: 1 | G8: =(F8/E8)-1 -> -0.66666667 | H8: 21 | I8: 26 | J8: =(I8/H8)-1 -> 0.23809524 | K8: 268 | L8: 319 | M8: =(L8/K8)-1 -> 0.19029851
A9: Total | B9: =SUM(B6:B8) -> 8421 | C9: =SUM(C6:C8) -> 8165 | D9: =(C9/B9)-1 -> -0.03040019 | E9: =SUM(E6:E8) -> 120 | F9: =SUM(F6:F8) -> 105 | G9: =(F9/E9)-1 -> -0.125 | H9: =SUM(H6:H8) -> 533 | I9: =SUM(I6:I8) -> 559 | J9: =(I9/H9)-1 -> 0.048780488 | K9: =SUM(K6:K8) -> 10061 | L9: =SUM(L6:L8) -> 9465 | M9: =(L9/K9)-1 -> -0.059238644

Sheet 2
A2: Quadro 2. Sinistralidade em Portugal, 2026 vs 2025
A4: =+'1'!A4 -> Janeiro-março | B4: AcV | E4: VM | H4: FG | K4: FL
B5: 2025 | C5: 2026 | D5: ∆(%) 26/25 | E5: 2025 | F5: 2026 | G5: ∆(%) 26/25 | H5: 2025 | I5: 2026 | J5: ∆(%) 26/25 | K5: 2025 | L5: 2026 | M5: ∆(%) 26/25
A6: Continente | B6: 7912 | C6: 7772 | D6: =(C6/B6)-1 -> -0.017694641 | E6: 87 | F6: 103 | G6: =(F6/E6)-1 -> 0.18390805 | H6: 497 | I6: 498 | J6: =(I6/H6)-1 -> 0.0020120724 | K6: 9219 | L6: 9010 | M6: =(L6/K6)-1 -> -0.022670572
A7: RA Açores | B7: 131 | C7: 121 | D7: =(C7/B7)-1 -> -0.076335878 | E7: 2 | F7: 1 | G7: =(F7/E7)-1 -> -0.5 | H7: 19 | I7: 35 | J7: =(I7/H7)-1 -> 0.84210526 | K7: 162 | L7: 136 | M7: =(L7/K7)-1 -> -0.16049383
A8: RA Madeira | B8: 232 | C8: 272 | D8: =(C8/B8)-1 -> 0.17241379 | E8: 2 | F8: 1 | G8: =(F8/E8)-1 -> -0.5 | H8: 17 | I8: 26 | J8: =(I8/H8)-1 -> 0.52941176 | K8: 263 | L8: 319 | M8: =(L8/K8)-1 -> 0.21292776
A9: Total | B9: =SUM(B6:B8) -> 8275 | C9: =SUM(C6:C8) -> 8165 | D9: =(C9/B9)-1 -> -0.013293051 | E9: =SUM(E6:E8) -> 91 | F9: =SUM(F6:F8) -> 105 | G9: =(F9/E9)-1 -> 0.15384615 | H9: =SUM(H6:H8) -> 533 | I9: =SUM(I6:I8) -> 559 | J9: =(I9/H9)-1 -> 0.048780488 | K9: =SUM(K6:K8) -> 9644 | L9: =SUM(L6:L8) -> 9465 | M9: =(L9/K9)-1 -> -0.018560763

Sheet 3
A2: Quadro 3. Evolução da Sinistralidade no Continente
A4: Ano | B4: AcV | C4: AcVM+AcFG | D4: AcVM | E4: Vítimas totais | F4: VM | G4: FG | H4: FL | I4: IGR
A5: 2017 | B5: 7397 | C5: 468 | D5: 93 | E5: =F5+G5+H5 -> 9400 | F5: 98 | G5: 434 | H5: 8868 | I5: =F5/B5*100 -> 1.3248614
A6: 2018 | B6: 7661 | C6: 456 | D6: 107 | E6: =F6+G6+H6 -> 9775 | F6: 112 | G6: 391 | H6: 9272 | I6: =F6/B6*100 -> 1.4619501
A7: 2019 | B7: 8049 | C7: 531 | D7: 109 | E7: =F7+G7+H7 -> 10253 | F7: 117 | G7: 489 | H7: 9647 | I7: =F7/B7*100 -> 1.4535967
A8: 2020 | B8: 6761 | C8: 422 | D8: 77 | E8: =F8+G8+H8 -> 8537 | F8: 82 | G8: 408 | H8: 8047 | I8: =F8/B8*100 -> 1.2128383
A9: 2021 | B9: 4430 | C9: 316 | D9: 50 | E9: =F9+G9+H9 -> 5321 | F9: 53 | G9: 297 | H9: 4971 | I9: =F9/B9*100 -> 1.1963883
A10: 2022 | B10: 6772 | C10: 481 | D10: 89 | E10: =F10+G10+H10 -> 8396 | F10: 99 | G10: 472 | H10: 7825 | I10: =F10/B10*100 -> 1.4619019
A11: 2023 | B11: 7667 | C11: 533 | D11: 97 | E11: =F11+G11+H11 -> 9514 | F11: 101 | G11: 496 | H11: 8917 | I11: =F11/B11*100 -> 1.317334
A12: 2024 | B12: 7937 | C12: 565 | D12: 97 | E12: =F12+G12+H12 -> 9897 | F12: 103 | G12: 517 | H12: 9277 | I12: =F12/B12*100 -> 1.2977195
A13: 2025 | B13: 7912 | C13: 514 | D13: 86 | E13: =F13+G13+H13 -> 9803 | F13: 87 | G13: 497 | H13: 9219 | I13: =F13/B13*100 -> 1.0995956
A14: 2026 | B14: 7772 | C14: 527 | D14: 92 | E14: =F14+G14+H14 -> 9611 | F14: 103 | G14: 498 | H14: 9010 | I14: =F14/B14*100 -> 1.3252702
A15: ∆(%) 26/17 | B15: =B14/B5-1 -> 0.050696228 | C15: =C14/C5-1 -> 0.12606838 | D15: =D14/D5-1 -> -0.010752688 | E15: =E14/E5-1 -> 0.022446809 | F15: =F14/F5-1 -> 0.051020408 | G15: =G14/G5-1 -> 0.14746544 | H15: =H14/H5-1 -> 0.01601263 | I15: =I14/I5-1 -> 0.00030853824
A16: ∆(%) 26/19 | B16: =B14/B7-1 -> -0.034414213 | C16: =C14/C7-1 -> -0.0075329567 | D16: =D14/D7-1 -> -0.1559633 | E16: =E14/E7-1 -> -0.06261582 | F16: =F14/F7-1 -> -0.11965812 | G16: =G14/G7-1 -> 0.018404908 | H16: =H14/H7-1 -> -0.06603089 | I16: =I14/I7-1 -> -0.088282064
A17: ∆(%) 26/25 | B17: =B14/B13-1 -> -0.017694641 | C17: =C14/C13-1 -> 0.025291829 | D17: =D14/D13-1 -> 0.069767442 | E17: =E14/E13-1 -> -0.019585841 | F17: =F14/F13-1 -> 0.18390805 | G17: =G14/G13-1 -> 0.0020120724 | H17: =H14/H13-1 -> -0.022670572 | I17: =I14/I13-1 -> 0.20523423

Sheet 4 e 5
A2: Quadro 4. Sinistralidade em Portugal por mês
A4: Mês | B4: AcV | E4: VM | H4: FG | K4: FL
B5: 2019 | C5: 2025 | D5: 2026 | E5: 2019 | F5: 2025 | G5: 2026 | H5: 2019 | I5: 2025 | J5: 2026 | K5: 2019 | L5: 2025 | M5: 2026
A6: Janeiro | B6: 2953 | C6: 2844 | D6: 2723 | E6: 48 | F6: 36 | G6: 51 | H6: 171 | I6: 164 | J6: 163 | K6: 3519 | L6: 3336 | M6: 3130
A7: Fevereiro | B7: 2470 | C7: 2524 | D7: 2431 | E7: 38 | F7: 30 | G7: 17 | H7: 149 | I7: 183 | J7: 171 | K7: 2938 | L7: 2931 | M7: 2821
A8: Março | B8: 2998 | C8: 2907 | D8: 3011 | E8: 34 | F8: 25 | G8: 37 | H8: 213 | I8: 186 | J8: 225 | K8: 3604 | L8: 3377 | M8: 3514
A9: Total | B9: =SUM(B6:B8) -> 8421 | C9: =SUM(C6:C8) -> 8275 | D9: =SUM(D6:D8) -> 8165 | E9: =SUM(E6:E8) -> 120 | F9: =SUM(F6:F8) -> 91 | G9: =SUM(G6:G8) -> 105 | H9: =SUM(H6:H8) -> 533 | I9: =SUM(I6:I8) -> 533 | ... M9: =SUM(M6:M8) -> 9465
A11: Quadro 5. Sinistralidade em Portugal por mês, taxas de variação
A13: Mês | B13: AcV | E13: VM | H13: FG | K13: FL
B14: ∆ (%)
B15: 26/19 | C15: 26/25 | E15: 26/19 | F15: 26/25 | H15: 26/19 | I15: 26/25 | K15: 26/19 | L15: 26/25
A16: Janeiro | B16: =(D6/B6)-1 -> -0.077886895 | C16: =(D6/C6)-1 -> -0.04254571 | E16: =(G6/E6)-1 -> 0.0625 | F16: =(G6/F6)-1 -> 0.41666667 | H16: =(J6/H6)-1 -> -0.046783626 | I16: =(J6/I6)-1 -> -0.006097561 | K16: =(M6/K6)-1 -> -0.11054277 | L16: =(M6/L6)-1 -> -0.0617506
A17: Fevereiro | B17: =(D7/B7)-1 -> -0.015789474 | C17: =(D7/C7)-1 -> -0.036846276 | E17: =(G7/E7)-1 -> -0.55263158 | F17: =(G7/F7)-1 -> -0.43333333 | H17: =(J7/H7)-1 -> 0.14765101 | I17: =(J7/I7)-1 -> -0.06557377 | K17: =(M7/K7)-1 -> -0.039823009 | L17: =(M7/L7)-1 -> -0.037529853
A18: Março | B18: =(D8/B8)-1 -> 0.0043362241 | C18: =(D8/C8)-1 -> 0.035775714 | E18: =(G8/E8)-1 -> 0.088235294 | F18: =(G8/F8)-1 -> 0.48 | H18: =(J8/H8)-1 -> 0.056338028 | I18: =(J8/I8)-1 -> 0.20967742 | K18: =(M8/K8)-1 -> -0.024972253 | L18: =(M8/L8)-1 -> 0.040568552
A19: Total | B19: =(D9/B9)-1 -> -0.03040019 | C19: =(D9/C9)-1 -> -0.013293051 | E19: =(G9/E9)-1 -> -0.125 | F19: =(G9/F9)-1 -> 0.15384615 | H19: =(J9/H9)-1 -> 0.048780488 | I19: =(J9/I9)-1 -> 0.048780488 | K19: =(M9/K9)-1 -> -0.059238644 | L19: =(M9/L9)-1 -> -0.018560763

Sheet 6
A2: Quadro 6. Sinistralidade em Portugal por dia da semana
A4: =+'1'!A4 -> Janeiro-março | B4: AcV | E4: VM | H4: FG | K4: FL
B5: 2025 | C5: 2026 | D5: ∆(%) 26/25 | E5: 2025 | F5: 2026 | G5: ∆(%) 26/25 | H5: 2025 | I5: 2026 | J5: ∆(%) 26/25 | K5: 2025 | L5: 2026 | M5: ∆(%) 26/25
A6: 2.ª feira | B6: 1233 | C6: 1174 | D6: =(C6/B6)-1 -> -0.04785077 | E6: 13 | F6: 9 | G6: =(F6/E6)-1 -> -0.30769231 | H6: 72 | I6: 62 | J6: =(I6/H6)-1 -> -0.13888889 | K6: 1428 | L6: 1351 | M6: =(L6/K6)-1 -> -0.053921569
A7: 3.ª feira | B7: 1095 | C7: 1179 | D7: =(C7/B7)-1 -> 0.076712329 | E7: 14 | F7: 10 | G7: =(F7/E7)-1 -> -0.28571429 | H7: 43 | I7: 86 | J7: =(I7/H7)-1 -> 1 | K7: 1272 | L7: 1347 | M7: =(L7/K7)-1 -> 0.058962264
A8: 4.ª feira | B8: 1253 | C8: 1048 | D8: =(C8/B8)-1 -> -0.16360734 | E8: 14 | F8: 14 | G8: =(F8/E8)-1 -> 0 | H8: 74 | I8: 54 | J8: =(I8/H8)-1 -> -0.27027027 | K8: 1444 | L8: 1191 | M8: =(L8/K8)-1 -> -0.17520776
A9: 5.ª feira | B9: 1240 | C9: 1210 | D9: =(C9/B9)-1 -> -0.024193548 | E9: 9 | F9: 8 | G9: =(F9/E9)-1 -> -0.11111111 | H9: 67 | I9: 49 | J9: =(I9/H9)-1 -> -0.26865672 | K9: 1425 | L9: 1421 | M9: =(L9/K9)-1 -> -0.0028070175
A10: 6.ª feira | B10: 1309 | C10: 1261 | D10: =(C10/B10)-1 -> -0.036669213 | E10: 13 | F10: 18 | G10: =(F10/E10)-1 -> 0.38461538 | H10: 89 | I10: 85 | J10: =(I10/H10)-1 -> -0.04494382 | K10: 1508 | L10: 1456 | M10: =(L10/K10)-1 -> -0.034482759
A11: Sábado | B11: 1131 | C11: 1142 | D11: =(C11/B11)-1 -> 0.0097259063 | E11: 21 | F11: 30 | G11: =(F11/E11)-1 -> 0.42857143 | H11: 94 | I11: 112 | J11: =(I11/H11)-1 -> 0.19148936 | K11: 1319 | L11: 1354 | M11: =(L11/K11)-1 -> 0.026535254
A12: Domingo | B12: 1014 | C12: 1151 | D12: =(C12/B12)-1 -> 0.13510848 | E12: 7 | F12: 16 | G12: =(F12/E12)-1 -> 1.2857143 | H12: 94 | I12: 111 | J12: =(I12/H12)-1 -> 0.18085106 | K12: 1248 | L12: 1345 | M12: =(L12/K12)-1 -> 0.077724359
A13: Total | B13: =SUM(B6:B12) -> 8275 | C13: =SUM(C6:C12) -> 8165 | D13: =(C13/B13)-1 -> -0.013293051 | E13: =SUM(E6:E12) -> 91 | F13: =SUM(F6:F12) -> 105 | G13: =(F13/E13)-1 -> 0.15384615 | H13: =SUM(H6:H12) -> 533 | I13: =SUM(I6:I12) -> 559 | J13: =(I13/H13)-1 -> 0.048780488 | K13: =SUM(K6:K12) -> 9644 | L13: =SUM(L6:L12) -> 9465 | M13: =(L13/K13)-1 -> -0.018560763

Sheet 7
A2: Quadro 7. Sinistralidade em Portugal por período horário
A4: =+'1'!A4 -> Janeiro-março | B4: AcV | E4: VM | H4: FG | K4: FL
B5: 2025 | C5: 2026 | D5: ∆(%) 26/25 | E5: 2025 | F5: 2026 | G5: ∆(%) 26/25 | H5: 2025 | I5: 2026 | J5: ∆(%) 26/25 | K5: 2025 | L5: 2026 | M5: ∆(%) 26/25
A6: [00:00-03:00[ | B6: 249 | C6: 272 | D6: =(C6/B6)-1 -> 0.092369478 | E6: 5 | F6: 11 | G6: =(F6/E6)-1 -> 1.2 | H6: 20 | I6: 41 | J6: =(I6/H6)-1 -> 1.05 | K6: 283 | L6: 299 | M6: =(L6/K6)-1 -> 0.056537102
A7: [03:00-06:00[ | B7: 171 | C7: 159 | D7: =(C7/B7)-1 -> -0.070175439 | E7: 9 | F7: 8 | G7: =(F7/E7)-1 -> -0.11111111 | H7: 20 | I7: 13 | J7: =(I7/H7)-1 -> -0.35 | K7: 203 | L7: 171 | M7: =(L7/K7)-1 -> -0.15763547
A8: [06:00-09:00[ | B8: 1014 | C8: 993 | D8: =(C8/B8)-1 -> -0.020710059 | E8: 11 | F8: 10 | G8: =(F8/E8)-1 -> -0.090909091 | H8: 68 | I8: 52 | J8: =(I8/H8)-1 -> -0.23529412 | K8: 1176 | L8: 1157 | M8: =(L8/K8)-1 -> -0.016156463
A9: [09:00-12:00[ | B9: 1336 | C9: 1336 | D9: =(C9/B9)-1 -> 0 | E9: 9 | F9: 13 | G9: =(F9/E9)-1 -> 0.44444444 | H9: 76 | I9: 75 | J9: =(I9/H9)-1 -> -0.013157895 | K9: 1525 | L9: 1557 | M9: =(L9/K9)-1 -> 0.020983607
A10: [12:00-15:00[ | B10: 1591 | C10: 1429 | D10: =(C10/B10)-1 -> -0.10182275 | E10: 12 | F10: 11 | G10: =(F10/E10)-1 -> -0.083333333 | H10: 94 | I10: 71 | J10: =(I10/H10)-1 -> -0.24468085 | K10: 1885 | L10: 1656 | M10: =(L10/K10)-1 -> -0.12148541
A11: [15:00-18:00[ | B11: 1743 | C11: 1793 | D11: =(C11/B11)-1 -> 0.028686173 | E11: 23 | F11: 18 | G11: =(F11/E11)-1 -> -0.2173913 | H11: 103 | I11: 118 | J11: =(I11/H11)-1 -> 0.14563107 | K11: 2072 | L11: 2132 | M11: =(L11/K11)-1 -> 0.028957529
A12: [18:00-21:00[ | B12: 1543 | C12: 1622 | D12: =(C12/B12)-1 -> 0.051198963 | E12: 14 | F12: 26 | G12: =(F12/E12)-1 -> 0.85714286 | H12: 100 | I12: 141 | J12: =(I12/H12)-1 -> 0.41 | K12: 1780 | L12: 1829 | M12: =(L12/K12)-1 -> 0.02752809
A13: [21:00-00:00[ | B13: 628 | C13: 561 | D13: =(C13/B13)-1 -> -0.1066879 | E13: 8 | F13: 8 | G13: =(F13/E13)-1 -> 0 | H13: 52 | I13: 48 | J13: =(I13/H13)-1 -> -0.076923077 | K13: 720 | L13: 664 | M13: =(L13/K13)-1 -> -0.077777778
A14: Total | B14: =SUM(B6:B13) -> 8275 | C14: =SUM(C6:C13) -> 8165 | D14: =(C14/B14)-1 -> -0.013293051 | E14: =SUM(E6:E13) -> 91 | F14: =SUM(F6:F13) -> 105 | G14: =(F14/E14)-1 -> 0.15384615 | H14: =SUM(H6:H13) -> 533 | I14: =SUM(I6:I13) -> 559 | J14: =(I14/H14)-1 -> 0.048780488 | K14: =SUM(K6:K13) -> 9644 | L14: =SUM(L6:L13) -> 9465 | M14: =(L14/K14)-1 -> -0.018560763

Sheet 8
A2: Quadro 8. Sinistralidade em Portugal por fatores atmosféricos
A4: =+'1'!A4 -> Janeiro-março | B4: AcV | E4: VM | H4: FG | K4: FL
B5: 2025 | C5: 2026 | D5: ∆(%) 26/25 | E5: 2025 | F5: 2026 | G5: ∆(%) 26/25 | H5: 2025 | I5: 2026 | J5: ∆(%) 26/25 | K5: 2025 | L5: 2026 | M5: ∆(%) 26/25
A6: Bom tempo | B6: 5960 | C6: 5507 | D6: =(C6/B6)-1 -> -0.076006711 | E6: 73 | F6: 70 | G6: =(F6/E6)-1 -> -0.04109589 | H6: 384 | I6: 424 | J6: =(I6/H6)-1 -> 0.10416667 | K6: 6851 | L6: 6324 | M6: =(L6/K6)-1 -> -0.076923077
A7: Chuva | B7: 2218 | C7: 2534 | D7: =(C7/B7)-1 -> 0.14247069 | E7: 17 | F7: 32 | G7: =(F7/E7)-1 -> 0.88235294 | H7: 138 | I7: 131 | J7: =(I7/H7)-1 -> -0.050724638 | K7: 2659 | L7: 2986 | M7: =(L7/K7)-1 -> 0.12297856
A8: Nevoeiro | B8: 59 | C8: 48 | D8: =(C8/B8)-1 -> -0.18644068 | E8: 1 | F8: 1 | G8: =(F8/E8)-1 -> 0 | H8: 6 | I8: 1 | J8: =(I8/H8)-1 -> -0.83333333 | K8: 84 | L8: 56 | M8: =(L8/K8)-1 -> -0.33333333
A9: Vento | B9: 27 | C9: 27 | D9: =(C9/B9)-1 -> 0 | E9: 0 | F9: 2 | G9: - | H9: 5 | I9: 1 | J9: =(I9/H9)-1 -> -0.8 | K9: 26 | L9: 25 | M9: =(L9/K9)-1 -> -0.038461538
A10: Neve | B10: 2 | C10: 17 | D10: =(C10/B10)-1 -> 7.5 | E10: 0 | F10: 0 | G10: - | H10: 0 | I10: 0 | J10: - | K10: 3 | L10: 24 | M10: =(L10/K10)-1 -> 7
A11: Granizo | B11: 6 | C11: 24 | D11: =(C11/B11)-1 -> 3 | E11: 0 | F11: 0 | G11: - | H11: 0 | I11: 1 | J11: - | K11: 18 | L11: 41 | M11: =(L11/K11)-1 -> 1.2777778
A12: n.d. | B12: 3 | C12: 8 | D12: =(C12/B12)-1 -> 1.6666667 | E12: 0 | F12: 0 | G12: - | H12: 0 | I12: 1 | J12: - | K12: 3 | L12: 9 | M12: =(L12/K12)-1 -> 2
A13: Total | B13: =SUM(B6:B12) -> 8275 | C13: =SUM(C6:C12) -> 8165 | D13: =(C13/B13)-1 -> -0.013293051 | E13: =SUM(E6:E12) -> 91 | F13: =SUM(F6:F12) -> 105 | G13: =(F13/E13)-1 -> 0.15384615 | H13: =SUM(H6:H12) -> 533 | I13: =SUM(I6:I12) -> 559 | J13: =(I13/H13)-1 -> 0.048780488 | K13: =SUM(K6:K12) -> 9644 | L13: =SUM(L6:L12) -> 9465 | M13: =(L13/K13)-1 -> -0.018560763

Sheet 9 e 10
A2: Quadro 9. Sinistralidade em Portugal por natureza
A4: =+'1'!A4 -> Janeiro-março | B4: AcV | E4: VM | H4: FG | K4: FL | N4: IGR
B5: 2019 | C5: 2025 | D5: 2026 | E5: 2019 | F5: 2025 | G5: 2026 | H5: 2019 | I5: 2025 | J5: 2026 | K5: 2019 | L5: 2025 | M5: 2026 | N5: 2019 | O5: 2025 | P5: 2026
A6: Atropelamento | B6: 1448 | C6: 1221 | D6: 1196 | E6: 22 | F6: 9 | G6: 16 | H6: 141 | I6: 83 | J6: 88 | K6: 1405 | L6: 1214 | M6: 1181 | N6: 1.519337 | O6: 0.73710074 | P6: 1.3377926
A7: Colisão | B7: 4484 | C7: 4382 | D7: 4345 | E7: 49 | F7: 47 | G7: 41 | H7: 215 | I7: 254 | J7: 269 | K7: 5940 | L7: 5488 | M7: 5487 | N7: 1.0927743 | O7: 1.0725696 | P7: 0.94361335
A8: Despiste | B8: 2489 | C8: 2672 | D8: 2624 | E8: 49 | F8: 35 | G8: 48 | H8: 177 | I8: 196 | J8: 202 | K8: 2716 | L8: 2942 | M8: 2797 | N8: 1.9686621 | O8: 1.3098802 | P8: 1.8292683
A9: Total | B9: =SUM(B6:B8) -> 8421 | C9: =SUM(C6:C8) -> 8275 | D9: =SUM(D6:D8) -> 8165 | E9: =SUM(E6:E8) -> 120 | F9: =SUM(F6:F8) -> 91 | G9: =SUM(G6:G8) -> 105 | H9: =SUM(H6:H8) -> 533 | I9: =SUM(I6:I8) -> 533 | ... M9: =SUM(M6:M8) -> 9465 | N9: 1.4250089 | O9: 1.0996979 | P9: 1.2859767
A11: Quadro 10. Sinistralidade em Portugal por natureza, taxas de variação
A13: =+'1'!A4 -> Janeiro-março | B13: AcV | E13: VM | H13: FG | K13: FL | N13: IGR
B14: ∆ (%)
B15: 26/19 | C15: 26/25 | E15: 26/19 | F15: 26/25 | H15: 26/19 | I15: 26/25 | K15: 26/19 | L15: 26/25 | N15: 26/19 | O15: 26/25
A16: Atropelamento | B16: =(D6/B6)-1 -> -0.17403315 | C16: =(D6/C6)-1 -> -0.02047502 | E16: =(G6/E6)-1 -> -0.27272727 | F16: =(G6/F6)-1 -> 0.77777778 | H16: =(J6/H6)-1 -> -0.37588652 | I16: =(J6/I6)-1 -> 0.060240964 | K16: =(M6/K6)-1 -> -0.1594306 | L16: =(M6/L6)-1 -> -0.027182867 | N16: =(P6/N6)-1 -> -0.11948921 | O16: =(P6/O6)-1 -> 0.81493868
A17: Colisão | B17: =(D7/B7)-1 -> -0.030999108 | C17: =(D7/C7)-1 -> -0.008443633 | E17: =(G7/E7)-1 -> -0.16326531 | F17: =(G7/F7)-1 -> -0.12765957 | H17: =(J7/H7)-1 -> 0.25116279 | I17: =(J7/I7)-1 -> 0.059055118 | K17: =(M7/K7)-1 -> -0.076262626 | L17: =(M7/L7)-1 -> -0.00018221574 | N17: =(P7/N7)-1 -> -0.1364975 | O17: =(P7/O7)-1 -> -0.12023113
A18: Despiste | B18: =(D8/B8)-1 -> 0.05423865 | C18: =(D8/C8)-1 -> -0.017964072 | E18: =(G8/E8)-1 -> -0.020408163 | F18: =(G8/F8)-1 -> 0.37142857 | H18: =(J8/H8)-1 -> 0.14124294 | I18: =(J8/I8)-1 -> 0.030612245 | K18: =(M8/K8)-1 -> 0.02982327 | L18: =(M8/L8)-1 -> -0.0492862 | N18: =(P8/N8)-1 -> -0.070806371 | O18: =(P8/O8)-1 -> 0.39651568
A19: Total | B19: =(D9/B9)-1 -> -0.03040019 | C19: =(D9/C9)-1 -> -0.013293051 | E19: =(G9/E9)-1 -> -0.125 | F19: =(G9/F9)-1 -> 0.15384615 | H19: =(J9/H9)-1 -> 0.048780488 | I19: =(J9/I9)-1 -> 0.048780488 | K19: =(M9/K9)-1 -> -0.059238644 | L19: =(M9/L9)-1 -> -0.018560763 | N19: =(P9/N9)-1 -> -0.09756583 | O19: =(P9/O9)-1 -> 0.16939093

Sheet 11 e 12
A2: Quadro 11. Sinistralidade em Portugal por localização
A4: =+'1'!A4 -> Janeiro-março | B4: AcV | E4: VM | H4: FG | K4: FL | N4: IGR
B5: 2019 | C5: 2025 | D5: 2026 | E5: 2019 | F5: 2025 | G5: 2026 | H5: 2019 | I5: 2025 | J5: 2026 | K5: 2019 | L5: 2025 | M5: 2026 | N5: 2019 | O5: 2025 | P5: 2026
A6: Dentro das localidades | B6: 6816 | C6: 6385 | D6: 6479 | E6: 56 | F6: 50 | G6: 67 | H6: 349 | I6: 337 | J6: 392 | K6: 8004 | L6: 7226 | M6: 7307 | N6: 0.82159624 | O6: 0.78308536 | P6: 1.0341102
A7: Fora das localidades | B7: 1605 | C7: 1890 | D7: 1686 | E7: 64 | F7: 41 | G7: 38 | H7: 184 | I7: 196 | J7: 167 | K7: 2057 | L7: 2418 | M7: 2158 | N7: 3.9875389 | O7: 2.1693122 | P7: 2.2538553
A8: Total | B8: =SUM(B6:B7) -> 8421 | C8: =SUM(C6:C7) -> 8275 | D8: =SUM(D6:D7) -> 8165 | E8: =SUM(E6:E7) -> 120 | F8: =SUM(F6:F7) -> 91 | G8: =SUM(G6:G7) -> 105 | H8: =SUM(H6:H7) -> 533 | I8: =SUM(I6:I7) -> 533 | ... M8: =SUM(M6:M7) -> 9465 | N8: =E8/B8*100 -> 1.4250089 | O8: =F8/C8*100 -> 1.0996979 | P8: =G8/D8*100 -> 1.2859767
A10: Quadro 12. Sinistralidade em Portugal, taxas de variação
A12: =+'1'!A4 -> Janeiro-março | B12: AcV | E12: VM | H12: FG | K12: FL | N12: IGR
B13: ∆ (%)
B14: 26/19 | C14: 26/25 | E14: 26/19 | F14: 26/25 | H14: 26/19 | I14: 26/25 | K14: 26/19 | L14: 26/25 | N14: 26/19 | O14: 26/25
A15: Dentro das localidades | B15: =(D6/B6)-1 -> -0.049442488 | C15: =(D6/C6)-1 -> 0.014722005 | E15: =(G6/E6)-1 -> 0.19642857 | F15: =(G6/F6)-1 -> 0.34 | H15: =(J6/H6)-1 -> 0.12320917 | I15: =(J6/I6)-1 -> 0.16320475 | K15: =(M6/K6)-1 -> -0.087081459 | L15: =(M6/L6)-1 -> 0.011209521 | N15: =(P6/N6)-1 -> 0.25865985 | O15: =(P6/O6)-1 -> 0.32055873
A16: Fora das localidades | B16: =(D7/B7)-1 -> 0.05046729 | C16: =(D7/C7)-1 -> -0.10793651 | E16: =(G7/E7)-1 -> -0.40625 | F16: =(G7/F7)-1 -> -0.073170732 | H16: =(J7/H7)-1 -> -0.092391304 | I16: =(J7/I7)-1 -> -0.14795918 | K16: =(M7/K7)-1 -> 0.049100632 | L16: =(M7/L7)-1 -> -0.10752688 | N16: =(P7/N7)-1 -> -0.43477536 | O16: =(P7/O7)-1 -> 0.038972311
A17: Total | B17: =(D8/B8)-1 -> -0.03040019 | C17: =(D8/C8)-1 -> -0.013293051 | E17: =(G8/E8)-1 -> -0.125 | F17: =(G8/F8)-1 -> 0.15384615 | H17: =(J8/H8)-1 -> 0.048780488 | I17: =(J8/I8)-1 -> 0.048780488 | K17: =(M8/K8)-1 -> -0.059238644 | L17: =(M8/L8)-1 -> -0.018560763 | N17: =(P8/N8)-1 -> -0.09756583 | O17: =(P8/O8)-1 -> 0.16939093

Sheet 13 e 14
A2: Quadro 13. Sinistralidade em Portugal por tipo de via
A4: =+'1'!A4 -> Janeiro-março | B4: AcV | E4: VM | H4: FG | K4: FL | N4: IGR
B5: 2019 | C5: 2025 | D5: 2026 | E5: 2019 | F5: 2025 | G5: 2026 | H5: 2019 | I5: 2025 | J5: 2026 | K5: 2019 | L5: 2025 | M5: 2026 | N5: 2019 | O5: 2025 | P5: 2026
A6: AE | B6: 514 | C6: 555 | D6: 568 | E6: 3 | F6: 9 | G6: 11 | H6: 26 | I6: 39 | J6: 42 | K6: 604 | L6: 788 | M6: 779 | N6: 0.58365759 | O6: 1.6216216 | P6: 1.9366197
A7: Arruamento | B7: 4456 | C7: 5189 | D7: 5103 | E7: 59 | F7: 37 | G7: 39 | H7: 256 | I7: 237 | J7: 272 | K7: 5308 | L7: 5781 | M7: 5631 | N7: 1.3240575 | O7: 0.71304683 | P7: 0.76425632
A8: EM | B8: 491 | C8: 219 | D8: 223 | E8: 13 | F8: 3 | G8: 1 | H8: 55 | I8: 35 | J8: 26 | K8: 583 | L8: 257 | M8: 264 | N8: 2.6476578 | O8: 1.369863 | P8: 0.44843049
A9: EN | B9: 2024 | C9: 1566 | D9: 1512 | E9: 22 | F9: 25 | G9: 31 | H9: 126 | I9: 150 | J9: 145 | K9: 2445 | L9: 1926 | M9: 1867 | N9: 1.0869565 | O9: 1.596424 | P9: 2.0502646
A10: ER | B10: 138 | C10: 112 | D10: 77 | E10: 5 | F10: 3 | G10: 1 | H10: 10 | I10: 13 | J10: 9 | K10: 166 | L10: 144 | M10: 92 | N10: 3.6231884 | O10: 2.6785714 | P10: 1.2987013
A11: IC | B11: 223 | C11: 199 | D11: 228 | E11: 2 | F11: 5 | G11: 11 | H11: 16 | I11: 15 | J11: 19 | K11: 263 | L11: 249 | M11: 299 | N11: 0.89686099 | O11: 2.5125628 | P11: 4.8245614
A12: IP | B12: 60 | C12: 54 | D12: 57 | E12: 4 | F12: 2 | G12: 0 | H12: 4 | I12: 5 | J12: 4 | K12: 69 | L12: 66 | M12: 67 | N12: 6.6666667 | O12: 3.7037037 | P12: 0
A13: Outras* | B13: 515 | C13: 381 | D13: 397 | E13: 12 | F13: 7 | G13: 11 | H13: 40 | I13: 39 | J13: 42 | K13: 623 | L13: 433 | M13: 466 | N13: 2.3300971 | O13: 1.8372703 | P13: 2.7707809
A14: Total | B14: =SUM(B6:B13) -> 8421 | C14: =SUM(C6:C13) -> 8275 | D14: =SUM(D6:D13) -> 8165 | E14: =SUM(E6:E13) -> 120 | F14: =SUM(F6:F13) -> 91 | G14: =SUM(G6:G13) -> 105 | H14: =SUM(H6:H13) -> 533 | I14: =SUM(I6:I13) -> 533 | ... M14: =SUM(M6:M13) -> 9465 | N14: =E14/B14*100 -> 1.4250089 | O14: =F14/C14*100 -> 1.0996979 | P14: =G14/D14*100 -> 1.2859767
A15: * Inclui acessos, estradas florestais, pontes, variantes e não definidas
A17: Quadro 14. Sinistralidade em Portugal por tipo de via, taxas de variação
A19: =+'1'!A4 -> Janeiro-março | B19: AcV | E19: VM | H19: FG | K19: FL | N19: IGR
B20: ∆ (%)
B21: 26/19 | C21: 26/25 | E21: 26/19 | F21: 26/25 | H21: 26/19 | I21: 26/25 | K21: 26/19 | L21: 26/25 | N21: 26/19 | O21: 26/25
A22: AE | B22: =(D6/B6)-1 -> 0.10505837 | C22: =(D6/C6)-1 -> 0.023423423 | E22: =(G6/E6)-1 -> 2.6666667 | F22: =(G6/F6)-1 -> 0.22222222 | H22: =(J6/H6)-1 -> 0.61538462 | I22: =(J6/I6)-1 -> 0.076923077 | K22: =(M6/K6)-1 -> 0.2897351 | L22: =(M6/L6)-1 -> -0.01142132 | N22: =(P6/N6)-1 -> 2.3180751 | O22: =(P6/O6)-1 -> 0.19424883
A23: Arruamento | B23: =(D7/B7)-1 -> 0.14519749 | C23: =(D7/C7)-1 -> -0.016573521 | E23: =(G7/E7)-1 -> -0.33898305 | F23: =(G7/F7)-1 -> 0.054054054 | H23: =(J7/H7)-1 -> 0.0625 | I23: =(J7/I7)-1 -> 0.14767932 | K23: =(M7/K7)-1 -> 0.060851545 | L23: =(M7/L7)-1 -> -0.025947068 | N23: =(P7/N7)-1 -> -0.42279218 | O23: =(P7/O7)-1 -> 0.07181785
A24: EM | B24: =(D8/B8)-1 -> -0.54582485 | C24: =(D8/C8)-1 -> 0.01826484 | E24: =(G8/E8)-1 -> -0.92307692 | F24: =(G8/F8)-1 -> -0.66666667 | H24: =(J8/H8)-1 -> -0.52727273 | I24: =(J8/I8)-1 -> -0.25714286 | K24: =(M8/K8)-1 -> -0.54716981 | L24: =(M8/L8)-1 -> 0.027237354 | N24: =(P8/N8)-1 -> -0.83063125 | O24: =(P8/O8)-1 -> -0.67264574
A25: EN | B25: =(D9/B9)-1 -> -0.25296443 | C25: =(D9/C9)-1 -> -0.034482759 | E25: =(G9/E9)-1 -> 0.40909091 | F25: =(G9/F9)-1 -> 0.24 | H25: =(J9/H9)-1 -> 0.15079365 | I25: =(J9/I9)-1 -> -0.033333333 | K25: =(M9/K9)-1 -> -0.23640082 | L25: =(M9/L9)-1 -> -0.030633437 | N25: =(P9/N9)-1 -> 0.88624339 | O25: =(P9/O9)-1 -> 0.28428571
A26: ER | B26: =(D10/B10)-1 -> -0.44202899 | C26: =(D10/C10)-1 -> -0.3125 | E26: =(G10/E10)-1 -> -0.8 | F26: =(G10/F10)-1 -> -0.66666667 | H26: =(J10/H10)-1 -> -0.1 | I26: =(J10/I10)-1 -> -0.30769231 | K26: =(M10/K10)-1 -> -0.44578313 | L26: =(M10/L10)-1 -> -0.36111111 | N26: =(P10/N10)-1 -> -0.64155844 | O26: =(P10/O10)-1 -> -0.51515152
A27: IC | B27: =(D11/B11)-1 -> 0.022421525 | C27: =(D11/C11)-1 -> 0.14572864 | E27: =(G11/E11)-1 -> 4.5 | F27: =(G11/F11)-1 -> 1.2 | H27: =(J11/H11)-1 -> 0.1875 | I27: =(J11/I11)-1 -> 0.26666667 | K27: =(M11/K11)-1 -> 0.13688213 | L27: =(M11/L11)-1 -> 0.20080321 | N27: =(P11/N11)-1 -> 4.379386 | O27: =(P11/O11)-1 -> 0.92017544
A28: IP | B28: =(D12/B12)-1 -> -0.05 | C28: =(D12/C12)-1 -> 0.055555556 | E28: =(G12/E12)-1 -> -1 | F28: =(G12/F12)-1 -> -1 | H28: =(J12/H12)-1 -> 0 | I28: =(J12/I12)-1 -> -0.2 | K28: =(M12/K12)-1 -> -0.028985507 | L28: =(M12/L12)-1 -> 0.015151515 | N28: =(P12/N12)-1 -> -1 | O28: =(P12/O12)-1 -> -1
A29: Outras* | B29: =(D13/B13)-1 -> -0.22912621 | C29: =(D13/C13)-1 -> 0.041994751 | E29: =(G13/E13)-1 -> -0.083333333 | F29: =(G13/F13)-1 -> 0.57142857 | H29: =(J13/H13)-1 -> 0.05 | I29: =(J13/I13)-1 -> 0.076923077 | K29: =(M13/K13)-1 -> -0.25200642 | L29: =(M13/L13)-1 -> 0.076212471 | N29: =(P13/N13)-1 -> 0.18912678 | O29: =(P13/O13)-1 -> 0.50809644
A30: Total | B30: =(D14/B14)-1 -> -0.03040019 | C30: =(D14/C14)-1 -> -0.013293051 | E30: =(G14/E14)-1 -> -0.125 | F30: =(G14/F14)-1 -> 0.15384615 | H30: =(J14/H14)-1 -> 0.048780488 | I30: =(J14/I14)-1 -> 0.048780488 | K30: =(M14/K14)-1 -> -0.059238644 | L30: =(M14/L14)-1 -> -0.018560763 | N30: =(P14/N14)-1 -> -0.09756583 | O30: =(P14/O14)-1 -> 0.16939093
A31: * Inclui acessos, estradas florestais, pontes, variantes e não definidas

Sheet 15
A2: Quadro 15. Sinistralidade em Portugal por distrito e R. A.
A4: =+'1'!A4 -> Janeiro-março | B4: AcV | E4: VM | H4: FG | K4: FL
B5: 2025 | C5: 2026 | D5: ∆(%) 26/25 | E5: 2025 | F5: 2026 | G5: ∆(%) 26/25 | H5: 2025 | I5: 2026 | J5: ∆(%) 26/25 | K5: 2025 | L5: 2026 | M5: ∆(%) 26/25
A6: Aveiro | B6: 640 | C6: 577 | D6: =(C6/B6)-1 -> -0.0984375 | E6: 9 | F6: 10 | G6: =(F6/E6)-1 -> 0.11111111 | H6: 25 | I6: 36 | J6: =(I6/H6)-1 -> 0.44 | K6: 746 | L6: 640 | M6: =(L6/K6)-1 -> -0.14209115
A7: Beja | B7: 99 | C7: 100 | D7: =(C7/B7)-1 -> 0.01010101 | E7: 2 | F7: 3 | G7: =(F7/E7)-1 -> 0.5 | H7: 21 | I7: 15 | J7: =(I7/H7)-1 -> -0.28571429 | K7: 120 | L7: 116 | M7: =(L7/K7)-1 -> -0.033333333
A8: Braga | B8: 734 | C8: 751 | D8: =(C8/B8)-1 -> 0.023160763 | E8: 8 | F8: 8 | G8: =(F8/E8)-1 -> 0 | H8: 40 | I8: 36 | J8: =(I8/H8)-1 -> -0.1 | K8: 855 | L8: 882 | M8: =(L8/K8)-1 -> 0.031578947
A9: Bragança | B9: 79 | C9: 81 | D9: =(C9/B9)-1 -> 0.025316456 | E9: 1 | F9: 1 | G9: =(F9/E9)-1 -> 0 | H9: 12 | I9: 13 | J9: =(I9/H9)-1 -> 0.083333333 | K9: 85 | L9: 86 | M9: =(L9/K9)-1 -> 0.011764706
A10: C. Branco | B10: 114 | C10: 126 | D10: =(C10/B10)-1 -> 0.10526316 | E10: 2 | F10: 1 | G10: =(F10/E10)-1 -> -0.5 | H10: 13 | I10: 16 | J10: =(I10/H10)-1 -> 0.23076923 | K10: 138 | L10: 136 | M10: =(L10/K10)-1 -> -0.014492754
A11: Coimbra | B11: 363 | C11: 364 | D11: =(C11/B11)-1 -> 0.0027548209 | E11: 4 | F11: 7 | G11: =(F11/E11)-1 -> 0.75 | H11: 11 | I11: 25 | J11: =(I11/H11)-1 -> 1.2727273 | K11: 431 | L11: 442 | M11: =(L11/K11)-1 -> 0.025522042
A12: Évora | B12: 103 | C12: 87 | D12: =(C12/B12)-1 -> -0.15533981 | E12: 2 | F12: 2 | G12: =(F12/E12)-1 -> 0 | H12: 21 | I12: 15 | J12: =(I12/H12)-1 -> -0.28571429 | K12: 126 | L12: 91 | M12: =(L12/K12)-1 -> -0.27777778
A13: Faro | B13: 394 | C13: 477 | D13: =(C13/B13)-1 -> 0.2106599 | E13: 3 | F13: 3 | G13: =(F13/E13)-1 -> 0 | H13: 29 | I13: 36 | J13: =(I13/H13)-1 -> 0.24137931 | K13: 437 | L13: 523 | M13: =(L13/K13)-1 -> 0.19679634
A14: Guarda | B14: 86 | C14: 89 | D14: =(C14/B14)-1 -> 0.034883721 | E14: 1 | F14: 1 | G14: =(F14/E14)-1 -> 0 | H14: 6 | I14: 7 | J14: =(I14/H14)-1 -> 0.16666667 | K14: 105 | L14: 113 | M14: =(L14/K14)-1 -> 0.076190476
A15: Leiria | B15: 389 | C15: 407 | D15: =(C15/B15)-1 -> 0.046272494 | E15: 4 | F15: 13 | G15: =(F15/E15)-1 -> 2.25 | H15: 32 | I15: 42 | J15: =(I15/H15)-1 -> 0.3125 | K15: 448 | L15: 469 | M15: =(L15/K15)-1 -> 0.046875
A16: Lisboa | B16: 1851 | C16: 1841 | D16: =(C16/B16)-1 -> -0.0054024851 | E16: 11 | F16: 11 | G16: =(F16/E16)-1 -> 0 | H16: 92 | I16: 70 | J16: =(I16/H16)-1 -> -0.23913043 | K16: 2152 | L16: 2135 | M16: =(L16/K16)-1 -> -0.0078996283
A17: Portalegre | B17: 83 | C17: 64 | D17: =(C17/B17)-1 -> -0.22891566 | E17: 1 | F17: 4 | G17: =(F17/E17)-1 -> 3 | H17: 19 | I17: 14 | J17: =(I17/H17)-1 -> -0.26315789 | K17: 88 | L17: 72 | M17: =(L17/K17)-1 -> -0.18181818
... A25: RA Madeira | B25: 232 | C25: 272 | D25: =(C25/B25)-1 -> 0.17241379 | E25: 2 | F25: 1 | G25: =(F25/E25)-1 -> -0.5 | H25: 17 | I25: 26 | J25: =(I25/H25)-1 -> 0.52941176 | K25: 263 | L25: 319 | M25: =(L25/K25)-1 -> 0.21292776
A26: Total | B26: =SUM(B6:B25) -> 8275 | C26: =SUM(C6:C25) -> 8165 | D26: =(C26/B26)-1 -> -0.013293051 | E26: =SUM(E6:E25) -> 91 | F26: =SUM(F6:F25) -> 105 | G26: =(F26/E26)-1 -> 0.15384615 | H26: =SUM(H6:H25) -> 533 | I26: =SUM(I6:I25) -> 559 | J26: =(I26/H26)-1 -> 0.048780488 | K26: =SUM(K6:K25) -> 9644 | L26: =SUM(L6:L25) -> 9465 | M26: =(L26/K26)-1 -> -0.018560763

Sheet 16 e 17
A2: Quadro 16. Sinistralidade em Portugal por categoria de utilizador
A4: =+'1'!A4 -> Janeiro-março | B4: VM | E4: FG | H4: FL
B5: 2019 | C5: 2025 | D5: 2026 | E5: 2019 | F5: 2025 | G5: 2026 | H5: 2019 | I5: 2025 | J5: 2026
A6: Condutores | B6: 80 | C6: 69 | D6: 74 | E6: 310 | F6: 347 | G6: 362 | H6: 6372 | I6: 6575 | J6: 6371
A7: Passageiros | B7: 17 | C7: 13 | D7: 16 | E7: 77 | F7: 97 | G7: 107 | H7: 2308 | I7: 1861 | J7: 1943
A8: Peões | B8: 23 | C8: 9 | D8: 15 | E8: 146 | F8: 89 | G8: 90 | H8: 1381 | I8: 1208 | J8: 1151
A9: Total | B9: 120 | C9: 91 | D9: 105 | E9: 533 | F9: 533 | G9: 559 | H9: 10061 | I9: 9644 | J9: 9465
A11: Quadro 17. Sinistralidade em Portugal por categoria de utilizador, taxas de variação
A13: =+'1'!A4 -> Janeiro-março | B13: VM | E13: FG | H13: FL
B14: ∆ (%)
B15: 26/19 | C15: 26/25 | E15: 26/19 | F15: 26/25 | H15: 26/19 | I15: 26/25
A16: Condutores | B16: =(D6/B6)-1 -> -0.075 | C16: =(D6/C6)-1 -> 0.072463768 | E16: =(G6/E6)-1 -> 0.16774194 | F16: =(G6/F6)-1 -> 0.043227666 | H16: =(J6/H6)-1 -> -0.0001569366 | I16: =(J6/I6)-1 -> -0.031026616
A17: Passageiros | B17: =(D7/B7)-1 -> -0.058823529 | C17: =(D7/C7)-1 -> 0.23076923 | E17: =(G7/E7)-1 -> 0.38961039 | F17: =(G7/F7)-1 -> 0.10309278 | H17: =(J7/H7)-1 -> -0.15814558 | I17: =(J7/I7)-1 -> 0.044062332
A18: Peões | B18: =(D8/B8)-1 -> -0.34782609 | C18: =(D8/C8)-1 -> 0.66666667 | E18: =(G8/E8)-1 -> -0.38356164 | F18: =(G8/F8)-1 -> 0.011235955 | H18: =(J8/H8)-1 -> -0.16654598 | I18: =(J8/I8)-1 -> -0.04718543
A19: Total | B19: =(D9/B9)-1 -> -0.125 | C19: =(D9/C9)-1 -> 0.15384615 | E19: =(G9/E9)-1 -> 0.048780488 | F19: =(G9/F9)-1 -> 0.048780488 | H19: =(J9/H9)-1 -> -0.059238644 | I19: =(J9/I9)-1 -> -0.018560763

Sheet 18
A2: Quadro 18.Veículos intervenientes em acidentes com vítimas em Portugal por categoria de veículo
A4: =+'1'!A4 -> Janeiro-março | B4: Veículos Intervenientes
B5: 2019 | C5: 2025 | D5: 2026 | E5: ∆(%) 26/19 | F5: ∆(%) 26/25
A6: Veículos ligeiros | B6: 10638 | C6: 10022 | D6: 9814 | E6: =(D6/B6)-1 -> -0.077458169 | F6: =(D6/C6)-1 -> -0.02075434
A7: Veículos pesados | B7: 362 | C7: 368 | D7: 372 | E7: =(D7/B7)-1 -> 0.027624309 | F7: =(D7/C7)-1 -> 0.010869565
A8: Ciclomotores | B8: 598 | C8: 322 | D8: 256 | E8: =(D8/B8)-1 -> -0.57190635 | F8: =(D8/C8)-1 -> -0.20496894
A9: Motociclos | B9: 1595 | C9: 1875 | D9: 1899 | E9: =(D9/B9)-1 -> 0.19059561 | F9: =(D9/C9)-1 -> 0.0128
A10: Velocípedes | B10: 497 | C10: 794 | D10: 848 | E10: =(D10/B10)-1 -> 0.70623742 | F10: =(D10/C10)-1 -> 0.068010076
A11: Veículos agrícolas | B11: 49 | C11: 37 | D11: 49 | E11: =(D11/B11)-1 -> 0 | F11: =(D11/C11)-1 -> 0.32432432
A12: Outros* | B12: 155 | C12: 109 | D12: 69 | E12: =(D12/B12)-1 -> -0.55483871 | F12: =(D12/C12)-1 -> -0.36697248
A13: Total | B13: =SUM(B6:B12) -> 13894 | C13: =SUM(C6:C12) -> 13527 | D13: =SUM(D6:D12) -> 13307 | E13: =(D13/B13)-1 -> -0.042248453 | F13: =(D13/C13)-1 -> -0.016263769
A14: * Inclui máquinas industriais, triciclos, quadriciclos, veículos de tração animal veículos sobre carris, desconhecidos e não definidos

Sheet 19 e 20
A2: Quadro 19. Sinistralidade em Portugal por categoria de veículo e peões
A4: =+'1'!A4 -> Janeiro-março | B4: VM | E4: FG | H4: FL | K4: Total de vítimas
B5: 2019 | C5: 2025 | D5: 2026 | E5: 2019 | F5: 2025 | G5: 2026 | H5: 2019 | I5: 2025 | J5: 2026 | K5: 2019 | L5: 2025 | M5: 2026
A6: Peões | B6: 23 | C6: 9 | D6: 15 | E6: 146 | F6: 89 | G6: 90 | H6: 1381 | I6: 1208 | J6: 1151 | K6: 1550 | L6: 1306 | M6: 1256
A7: Veículos ligeiros | B7: 54 | C7: 42 | D7: 57 | E7: 221 | F7: 233 | G7: 242 | H7: 5900 | I7: 5409 | J7: 5336 | K7: 6175 | L7: 5684 | M7: 5635
A8: Veículos pesados | B8: 2 | C8: 2 | D8: 3 | E8: 5 | F8: 11 | G8: 6 | H8: 134 | I8: 110 | J8: 118 | K8: 141 | L8: 123 | M8: 127
A9: Ciclomotores | B9: 5 | C9: 2 | D9: 3 | E9: 29 | F9: 21 | G9: 25 | H9: 595 | I9: 303 | J9: 234 | K9: 629 | L9: 326 | M9: 262
A10: Motociclos | B10: 26 | C10: 27 | D10: 19 | E10: 101 | F10: 131 | G10: 129 | H10: 1496 | I10: 1783 | J10: 1769 | K10: 1623 | L10: 1941 | M10: 1917
A11: Velocípedes | B11: 5 | C11: 8 | D11: 5 | E11: 22 | F11: 38 | G11: 50 | H11: 448 | I11: 740 | J11: 781 | K11: 475 | L11: 786 | M11: 836
A12: Veículos agrícolas | B12: 3 | C12: 0 | D12: 3 | E12: 3 | F12: 1 | G12: 9 | H12: 19 | I12: 18 | J12: 25 | K12: 25 | L12: 19 | M12: 37
A13: Outros | B13: 2 | C13: 1 | D13: 0 | E13: 6 | F13: 9 | G13: 8 | H13: 88 | I13: 73 | J13: 51 | K13: 96 | L13: 83 | M13: 59
A14: Total | B14: =SUM(B6:B13) -> 120 | C14: =SUM(C6:C13) -> 91 | D14: =SUM(D6:D13) -> 105 | E14: =SUM(E6:E13) -> 533 | F14: =SUM(F6:F13) -> 533 | G14: =SUM(G6:G13) -> 559 | H14: =SUM(H6:H13) -> 10061 | I14: =SUM(I6:I13) -> 9644 | ... M14: =SUM(M6:M13) -> 10129
A15: * Inclui máquinas industriais, triciclos, quadriciclos, veículos de tração animal veículos sobre carris, desconhecidos e não definidos
A17: Quadro 20. Sinistralidade em Portugal por categoria de veículo e peões, taxas de variação
A19: =+'1'!A4 -> Janeiro-março | B19: VM | E19: FG | H19: FL | K19: Total de vítimas
B20: ∆ (%)
B21: 26/19 | C21: 26/25 | E21: 26/19 | F21: 26/25 | H21: 26/19 | I21: 26/25 | K21: 26/19 | L21: 26/25
A22: Peões | B22: =(D6/B6)-1 -> -0.34782609 | C22: =(D6/C6)-1 -> 0.66666667 | E22: =(G6/E6)-1 -> -0.38356164 | F22: =(G6/F6)-1 -> 0.011235955 | H22: =(J6/H6)-1 -> -0.16654598 | I22: =(J6/I6)-1 -> -0.04718543 | K22: =(M6/K6)-1 -> -0.18967742 | L22: =(M6/L6)-1 -> -0.038284839
A23: Veículos ligeiros | B23: =(D7/B7)-1 -> 0.055555556 | C23: =(D7/C7)-1 -> 0.35714286 | E23: =(G7/E7)-1 -> 0.095022624 | F23: =(G7/F7)-1 -> 0.038626609 | H23: =(J7/H7)-1 -> -0.09559322 | I23: =(J7/I7)-1 -> -0.013496025 | K23: =(M7/K7)-1 -> -0.087449393 | L23: =(M7/L7)-1 -> -0.0086206897
A24: Veículos pesados | B24: =(D8/B8)-1 -> 0.5 | C24: =(D8/C8)-1 -> 0.5 | E24: =(G8/E8)-1 -> 0.2 | F24: =(G8/F8)-1 -> -0.45454545 | H24: =(J8/H8)-1 -> -0.11940299 | I24: =(J8/I8)-1 -> 0.072727273 | K24: =(M8/K8)-1 -> -0.09929078 | L24: =(M8/L8)-1 -> 0.032520325
A25: Ciclomotores | B25: =(D9/B9)-1 -> -0.4 | C25: =(D9/C9)-1 -> 0.5 | E25: =(G9/E9)-1 -> -0.13793103 | F25: =(G9/F9)-1 -> 0.19047619 | H25: =(J9/H9)-1 -> -0.60672269 | I25: =(J9/I9)-1 -> -0.22772277 | K25: =(M9/K9)-1 -> -0.58346582 | L25: =(M9/L9)-1 -> -0.19631902
A26: Motociclos | B26: =(D10/B10)-1 -> -0.26923077 | C26: =(D10/C10)-1 -> -0.2962963 | E26: =(G10/E10)-1 -> 0.27722772 | F26: =(G10/F10)-1 -> -0.015267176 | H26: =(J10/H10)-1 -> 0.18248663 | I26: =(J10/I10)-1 -> -0.0078519349 | K26: =(M10/K10)-1 -> 0.18114603 | L26: =(M10/L10)-1 -> -0.01236476
A27: Velocípedes | B27: =(D11/B11)-1 -> 0 | C27: =(D11/C11)-1 -> -0.375 | E27: =(G11/E11)-1 -> 1.2727273 | F27: =(G11/F11)-1 -> 0.31578947 | H27: =(J11/H11)-1 -> 0.74330357 | I27: =(J11/I11)-1 -> 0.055405405 | K27: =(M11/K11)-1 -> 0.76 | L27: =(M11/L11)-1 -> 0.063613232
A28: Veículos agrícolas | B28: =(D12/B12)-1 -> 0 | C28: - | E28: =(G12/E12)-1 -> 2 | F28: =(G12/F12)-1 -> 8 | H28: =(J12/H12)-1 -> 0.31578947 | I28: =(J12/I12)-1 -> 0.38888889 | K28: =(M12/K12)-1 -> 0.48 | L28: =(M12/L12)-1 -> 0.94736842
A29: Outros | B29: =(D13/B13)-1 -> -1 | C29: =(D13/C13)-1 -> -1 | E29: =(G13/E13)-1 -> 0.33333333 | F29: =(G13/F13)-1 -> -0.11111111 | H29: =(J13/H13)-1 -> -0.42045455 | I29: =(J13/I13)-1 -> -0.30136986 | K29: =(M13/K13)-1 -> -0.38541667 | L29: =(M13/L13)-1 -> -0.28915663
A30: Total | B30: =(D14/B14)-1 -> -0.125 | C30: =(D14/C14)-1 -> 0.15384615 | E30: =(G14/E14)-1 -> 0.048780488 | F30: =(G14/F14)-1 -> 0.048780488 | H30: =(J14/H14)-1 -> -0.059238644 | I30: =(J14/I14)-1 -> -0.018560763 | K30: =(M14/K14)-1 -> -0.054601456 | L30: =(M14/L14)-1 -> -0.013537203
A31: * Inclui máquinas industriais, triciclos, quadriciclos, veículos de tração animal veículos sobre carris, desconhecidos e não definidos

Sheet 21
A2: Quadro 21. Vítimas mortais por entidade gestora de via (EGV), resumo janeiro a março 2026
A4: Tipo de Gestão | B4: Entidade Gestora | C4: N.º VM / EGV | D4: Total VM jan a mar | E4: % | F4: Total VM jan a mar | G4: Variação 2026-2019
D5: 2026 | F5: 2019
A6: Concessionária da Rede Rodoviária Nacional | B6: Infraestruturas de Portugal | C6: 39 | D6: 39 | E6: 0.37142857 | F6: 56 | G6: -0.30357143
A7: Concessionárias do Estado | B7: Ascendi | C7: 3 | D7: 3 | E7: 0.028571429 | F7: 1 | G7: 2
B8: Concessão Norte Litoral | C8: 2 | D8: 2 | E8: 0.019047619 | F8: 0 | G8: -
B9: Brisa | C9: 1 | D9: 1 | E9: 0.0095238095 | F9: 10 | G9: -0.9
B10: Concessão Douro Litoral | C10: 1 | D10: 1 | E10: 0.0095238095 | F10: 0 | G10: -
B11: Concessão Oeste | C11: 1 | D11: 1 | E11: 0.0095238095 | F11: 0 | G11: -
B12: Globalvia (Beira Interior) | C12: 1 | D12: 1 | E12: 0.0095238095 | F12: 1 | G12: 0
B13: Interior Norte (NorScut) | C13: 1 | D13: 1 | E13: 0.0095238095 | F13: 0 | G13: -
B14: Lusoponte | C14: 0 | D14: 0 | E14: 0 | F14: 1 | G14: -1
B15: total | C15: - | D15: 10 | E15: 0.095238095 | F15: 13 | G15: -0.23076923
A16: Gestão Regiões Autónomas | B16: RA Açores | C16: 1 | D16: 1 | E16: 0.0095238095 | F16: 0 | G16: -
B17: RA Madeira | C17: 1 | D17: 1 | E17: 0.0095238095 | F17: 3 | G17: -0.66666667
B18: total | C18: - | D18: 2 | E18: 0.019047619 | F18: 3 | G18: -0.33333333
A19: Gestão Municipal | B19: Figueira da Foz, Lisboa, Penafiel | C19: 3 | D19: 9 | E19: 0.085714286 | F19: - | G19: -
B20: Esposende, Mafra, Oliveira de Azeméis, Oliveira de Frades, Ovar, Pampilhosa da Serra, Tomar, Vila Nova da Barquinha, Vila Nova de Famalicão | C20: 2 | D20: 18 | E20: 0.17142857 | F20: - | G20: -
B21: Águeda, Alcobaça, Alcoutim, Benavente, Borba, Cadaval, Caldas da Rainha, Castelo de Paiva, Crato, Gondomar, Leiria, Loulé, Maia, Marco de Canaveses, Marinha Grande, Mogadouro, Oleiros, Palmela, Pombal, Ponte de Sor, Póvoa de Varzim, Santa Maria da Feira, Setúbal, Sintra, Trofa, Vagos, Vouzela | C21: 1 | D21: 27 | E21: 0.25714286 | F21: - | G21: -
B22: total | C22: - | D22: 54 | E22: 0.51428571 | F22: 48 | G22: 0.125
B23: TOTAL | C23: - | D23: 105 | E23: 1 | F23: 120 | G23: -0.125

Sheet 22
A2: Quadro 22. Condutores e veículos fiscalizados
A4: =+'1'!A4 -> Janeiro-março | B4: N.º Condutores / Veículos fiscalizados presencialmente | E4: N.º Veículos fiscalizados por radar | H4: Total de Condutores / Veículos fiscalizados
A5: Entidade fiscalizadora | B5: 2025 | C5: 2026 | D5: ∆(%) 26/25 | E5: 2025 | F5: 2026 | G5: ∆(%) 26/25 | H5: 2025 | I5: 2026 | J5: ∆(%) 26/25
A6: ANSR | B6: - | C6: - | D6: - | E6: 70191027 | F6: 58258893 | G6: =(F6/E6)-1 -> -0.16999515 | H6: =SUM(B6,E6) -> 70191027 | I6: =SUM(C6,F6) -> 58258893 | J6: =(I6/H6)-1 -> -0.16999515
A7: GNR | B7: 600971 | C7: 523677 | D7: =(C7/B7)-1 -> -0.12861519 | E7: 4346580 | F7: 4870169 | G7: =(F7/E7)-1 -> 0.12045999 | H7: =SUM(B7,E7) -> 4947551 | I7: =SUM(C7,F7) -> 5393846 | J7: =(I7/H7)-1 -> 0.090205235
A8: PSP | B8: 202364 | C8: 178403 | D8: =(C8/B8)-1 -> -0.11840545 | E8: 699556 | F8: 596885 | G8: =(F8/E8)-1 -> -0.14676595 | H8: =SUM(B8,E8) -> 901920 | I8: =SUM(C8,F8) -> 775288 | J8: =(I8/H8)-1 -> -0.1404027
A9: PML(1) | B9: 6263 | C9: 5325 | D9: =(C9/B9)-1 -> -0.14976848 | E9: 172874 | F9: 242656 | G9: =(F9/E9)-1 -> 0.40365816 | H9: =SUM(B9,E9) -> 179137 | I9: =SUM(C9,F9) -> 247981 | J9: =(I9/H9)-1 -> 0.38430922
A10: Total | B10: =SUM(B6:B9) -> 809598 | C10: =SUM(C6:C9) -> 707405 | D10: =(C10/B10)-1 -> -0.12622684 | E10: =SUM(E6:E9) -> 75410037 | F10: =SUM(F6:F9) -> 63968603 | G10: =(F10/E10)-1 -> -0.15172296 | H10: =SUM(H6:H9) -> 76219635 | I10: =SUM(I6:I9) -> 64676008 | J10: =(I10/H10)-1 -> -0.15145214
A11: (1) Na PML, os veículos fiscalizados por radar fixo correspondem ao número de infrações

Sheet 23
A2: Quadro 23. Infrações
A4: =+'1'!A4 -> Janeiro-março | B4: N.º Condutores / Veículos fiscalizados | E4: Total de infrações | H4: Taxa de infração
A5: Entidade fiscalizadora | B5: 2025 | C5: 2026 | D5: ∆(%) 26/25 | E5: 2025 | F5: 2026 | G5: ∆(%) 26/25 | H5: 2025 | I5: 2026 | J5: ∆(%) 26/25
A6: ANSR | B6: ='22'!H6 -> 70191027 | C6: ='22'!I6 -> 58258893 | D6: =(C6/B6)-1 -> -0.16999515 | E6: 125282 | F6: 82774 | G6: =(F6/E6)-1 -> -0.33929854 | H6: =E6/B6 -> 0.001784872 | I6: =F6/C6 -> 0.001420796 | J6: =(I6/H6)-1 -> -0.2039788
A7: GNR | B7: ='22'!H7 -> 4947551 | C7: ='22'!I7 -> 5393846 | D7: =(C7/B7)-1 -> 0.090205235 | E7: 64599 | F7: 62192 | G7: =(F7/E7)-1 -> -0.037260639 | H7: =E7/B7 -> 0.013056763 | I7: =F7/C7 -> 0.011530177 | J7: =(I7/H7)-1 -> -0.11691915
A8: PSP | B8: ='22'!H8 -> 901920 | C8: ='22'!I8 -> 775288 | D8: =(C8/B8)-1 -> -0.1404027 | E8: 70283 | F8: 57222 | G8: =(F8/E8)-1 -> -0.18583441 | H8: =E8/B8 -> 0.07792598 | I8: =F8/C8 -> 0.073807411 | J8: =(I8/H8)-1 -> -0.052852325
A9: PML(1) | B9: ='22'!H9 -> 179137 | C9: ='22'!I9 -> 247981 | D9: =(C9/B9)-1 -> 0.38430922 | E9: 67110 | F9: 40393 | G9: =(F9/E9)-1 -> -0.39810758 | H9: 0.24053096 | I9: 0.12298742 | J9: =(I9/H9)-1 -> -0.4886836
A10: Total (2) | B10: =SUM(B6:B9) -> 76219635 | C10: =SUM(C6:C9) -> 64676008 | D10: =(C10/B10)-1 -> -0.15145214 | E10: =SUM(E6:E9) -> 327274 | F10: =SUM(F6:F9) -> 242581 | G10: =(F10/E10)-1 -> -0.25878316 | H10: 0.0038804534 | I10: 0.003576896 | J10: =(I10/H10)-1 -> -0.078227292
A11: (1) Na PML, os veículos fiscalizados por radar fixo correspondem ao número de infrações, pelo que a taxa de infração apenas inclui radares móveis
A12: (2) Taxa de infração global: sem radares fixos PML (fiscalização e infrações)

Sheet 24
A2: Quadro 24. Tipologia de infrações
A4: =+'1'!A4 -> Janeiro-março | B4: Infrações
A5: Tipo de infração | B5: 2025 | C5: 2026 | D5: ∆(%) 26/25
A6: Velocidade | B6: 191125 | C6: 124564 | D6: =(C6/B6)-1 -> -0.34825899
A7: Álcool | B7: 8531 | C7: 8033 | D7: =(C7/B7)-1 -> -0.058375337
A8: Seguro | B8: 7931 | C8: 7735 | D8: =(C8/B8)-1 -> -0.024713151
A9: Inspeção periódica obrigatória | B9: 23573 | C9: 24889 | D9: =(C9/B9)-1 -> 0.055826581
A10: Telemóvel | B10: 7587 | C10: 5478 | D10: =(C10/B10)-1 -> -0.27797548
A11: Cintos de segurança | B11: 4150 | C11: 3663 | D11: =(C11/B11)-1 -> -0.1173494
A12: Sistemas de retenção para crianças | B12: 647 | C12: 465 | D12: =(C12/B12)-1 -> -0.2812983
A13: Outras | B13: 83730 | C13: 67754 | D13: =(C13/B13)-1 -> -0.19080377
A14: Total | B14: =SUM(B6:B13) -> 327274 | C14: =SUM(C6:C13) -> 242581 | D14: =(C14/B14)-1 -> -0.25878316

Sheet 25
A2: Quadro 25. Infrações por excesso de velocidade
A4: =+'1'!A4 -> Janeiro-março | B4: N.º de veículos fiscalizados por radar | E4: Total de infrações
A5: Entidade fiscalizadora | B5: 2025 | C5: 2026 | D5: ∆(%) 26/25 | E5: 2025 | F5: 2026 | G5: ∆(%) 26/25
E6: N.º infrações Tx. Infração | G6: N.º infrações | H6: Tx. Infração
A7: ANSR | B7: 70191027 | C7: 58258893 | D7: =(C7/B7)-1 -> -0.16999515 | E7: 125282 | F7: 82774 | G7: =(F7/E7)-1 -> -0.33929854
E8: =E7/B7 -> 0.001784872 | F8: =F7/C7 -> 0.001420796 | H8: =(F8-E8)/E8 -> -0.2039788
A9: GNR | B9: 4346580 | C9: 4870169 | D9: =(C9/B9)-1 -> 0.12045999 | E9: 20592 | F9: 18724 | G9: =(F9/E9)-1 -> -0.090714841
E10: =E9/B9 -> 0.0047375178 | F10: =F9/C9 -> 0.0038446304 | H10: =(F10-E10)/E10 -> -0.18847155
A11: PSP | B11: 699556 | C11: 596885 | D11: =(C11/B11)-1 -> -0.14676595 | E11: 12503 | F11: 7840 | G11: =(F11/E11)-1 -> -0.37295049
E12: =E11/B11 -> 0.017872765 | F12: =F11/C11 -> 0.013134858 | H12: =(F12-E12)/E12 -> -0.26509085
A13: PML (1) | B13: 172874 | C13: 242656 | D13: =(C13/B13)-1 -> 0.40365816 | E13: 32748 | F13: 15226 | G13: =(F13/E13)-1 -> -0.53505558
E14: 0.0079153805 | F14: 0.017045995 | H14: =(F14-E14)/E14 -> 1.1535282
B15: =SUM(B7:B14) -> 75410037 | C15: =SUM(C7:C14) -> 63968603 | D15: =(C15/B15)-1 -> -0.15172296 | E15: 191125 | F15: 124564 | G15: =(F15/E15)-1 -> -0.34825899
A16: Total (2) | E16: 0.0021159243 | F16: 0.0017712124 | H16: =(F16-E16)/E16 -> -0.16291314
A17: (1) Na PML, os veículos fiscalizados por radar fixo correspondem ao número de infrações, pelo que a taxa de infração apenas inclui radares móveis
A18: (2) Taxa de infração global: sem radares fixos PML (fiscalização e infrações)

Sheet 26
A2: Quadro 26. Infrações por influência de álcool
A4: =+'1'!A4 -> Janeiro-março | B4: Testes efetuados | E4: Infrações
A5: Influência de álcool | B5: 2025 | C5: 2026 | D5: ∆(%) 26/25 | E5: 2025 | F5: 2026 | G5: ∆(%) 26/25
E6: N.º infrações Tx. Infração | G6: N.º infrações | H6: Tx. Infração
A7: Total | B7: 562383 | C7: 489529 | D7: =(C7/B7)-1 -> -0.12954517 | E7: 8531 | F7: 8033 | G7: =(F7/E7)-1 -> -0.058375337
E8: =E7/B7 -> 0.015169377 | F8: =F7/C7 -> 0.016409651 | H8: =(F8/E8)-1 -> 0.081761658

Sheet 27
A2: Quadro 27. Detenções
A4: =+'1'!A4 -> Janeiro-março | B4: Detenções
A5: Tipo de infração | B5: 2025 | C5: 2026 | D5: ∆(%) 26/25
A6: Álcool | B6: 4805 | C6: 5222 | D6: =(C6/B6)-1 -> 0.086784599
A7: Falta de habilitação legal para condução | B7: 2981 | C7: 2864 | D7: =(C7/B7)-1 -> -0.039248574
A8: Outras | B8: 3015 | C8: 2554 | D8: =(C8/B8)-1 -> -0.15290216
A9: Total | B9: =SUM(B6:B8) -> 10801 | C9: =SUM(C6:C8) -> 10640 | D9: =(C9/B9)-1 -> -0.014906027

Sheet 28
A2: Quadro 28. Número de pontos disponíveis dos condutores que se encontravam sancionados com subtração de pontos em março de 2026
A4: Nº de pontos disponíveis | B4: Nº de condutores
A5: 0 | B5: 4282
A6: 1 | B6: 5
A7: 2 | B7: 31
A8: 3 | B8: 8743
A9: 4 | B9: 1230
A10: 5 | B10: 3627
A11: 6 | B11: 1483
A12: 7 | B12: 12667
A13: 8 | B13: 3181
A14: 9 | B14: 66941
A15: 10 | B15: 17838
A16: 11 | B16: 131795
... A18: 13 | B18: 574509
A19: Total | B19: =SUM(B5:B18) -> 863052

Sheet 29
A2: Quadro 29. Número de cartas cassadas, 2016 – março de 2026
A5: Ano | B5: 2016 | C5: 2017 | D5: 2018 | E5: 2019 | F5: 2020 | G5: 2021 | H5: 2022 | I5: 2023 | J5: 2024 | K5: 2025 | L5: 2026 (p) | M5: Total
A6: Nº de cartas cassadas | B6: 16 | C6: 64 | D6: 182 | E6: 668 | F6: 443 | G6: 439 | H6: 598 | I6: 577 | J6: 438 | K6: 566 | L6: 201 | M6: =SUM(B6:L6) -> 4192
